BEGIN:VCALENDAR
VERSION:2.0
PRODID:icalendar-ruby
CALSCALE:GREGORIAN
X-WR-TIMEZONE:Europe/Helsinki
BEGIN:VTIMEZONE
TZID:Europe/Helsinki
BEGIN:DAYLIGHT
DTSTART:20260329T040000
TZOFFSETFROM:+0200
TZOFFSETTO:+0300
RRULE:FREQ=YEARLY;BYDAY=-1SU;BYMONTH=3
TZNAME:EEST
END:DAYLIGHT
BEGIN:STANDARD
DTSTART:20261025T030000
TZOFFSETFROM:+0300
TZOFFSETTO:+0200
RRULE:FREQ=YEARLY;BYDAY=-1SU;BYMONTH=10
TZNAME:EET
END:STANDARD
END:VTIMEZONE
BEGIN:VEVENT
DTSTAMP:20260424T194430
UID:hawks.myclub.fi-730821
DTSTART;TZID=Europe/Helsinki:20180117T180000
DTEND;TZID=Europe/Helsinki:20180117T180000
DESCRIPTION:AKTIIVISTA HARJOITTELUA PIENRYHMISSÄ \nSalibandyn lajikouluja 
 järjestetään 6-9-vuotiaille pojille ja tytöille. Pienryhmäharjoittelu
  tarjoaa lapsille paljon pallokosketuksia\, mikä kehittää taitoja parha
 iten ja tekee harjoittelusta mielekästä\, kun lapsi pääsee osallistuma
 an aktiivisesti.\n\n\nMISSÄ JA MILLOIN? \nKevätkauden toiminta alkaa kes
 kiviikkona 17.1. ja päättyy keskiviikkona 30.5.  \nPelipaikkana toimii H
 akaniemen Arena Center keskiviikkoisin klo 18:00-19:00.\n\n\nOHJAAJA \nHaw
 ksin salibandykoulussa toiminnan suunnittelusta ja toteutuksesta vastaa ko
 kenut pääohjaaja\, jolla on kokemusta erilaisten ryhmien ohjaamisesta.\n
 \n\nVARUSTEET \nLapsi tarvitsee peleihin ainoastaan sisäpelivarusteet (t-
 paidan\, shortsit/verkkarit ja sisäpelikengät sekä juomapullon). Pallot
  ja peliliivit tulevat järjestäjältä. Salibandypeleissä käytetään 
 myös suojalaseja ja mailaa\, jotka voivat olla pelaajan omia tai joita vo
 i tarvittaessa lainata veloituksetta. Ilmoittautumisen yhteydessä on mahd
 ollisuus tilata edullinen Fat Pipen varustepaketti (liitteenä Salibandyma
 ilan mittataulukko).\n\n\nHINTA \nSalibandykoulun kevätkauden hinta on 13
 5 euroa. Hinta sisältää tunnin harjoitukset kerran viikossa\, ohjauksen
 \, lainavarusteet sekä seuran jäsenmaksun. Kesken kauden aloittaville la
 psille lasketaan hinta tapauskohtaisesti.\n\nhttps://hawks.myclub.fi/flow/
 events/730821
LOCATION:Hakaniemen Arena Center\, Sähly-kenttä\, Sörnäisten rantatie 2
 \, 00530 Helsinki
SEQUENCE:0
SUMMARY:Hawks Helsinki: Salibandykoulu\, 6-9-vuotiaat\, Hakaniemi\, keskivi
 ikkoisin 18:00-19:00
URL;VALUE=URI:https://hawks.myclub.fi/flow/events/730821
END:VEVENT
END:VCALENDAR
